BEGIN:VCALENDAR
VERSION:2.0
PRODID:icalendar-ruby
CALSCALE:GREGORIAN
METHOD:PUBLISH
BEGIN:VEVENT
DTSTAMP:20260420T084632Z
UID:8-263221@stjohnschurchpa.org
DTSTART:20260909T220000Z
DTEND:20260909T230000Z
CLASS:PUBLIC
CREATED:20260420T035455
DESCRIPTION:
LAST-MODIFIED:20260420T035455
LOCATION:
SUMMARY:Bible Study
URL;VALUE=URI:https://www.stjohnschurchpa.org/events/bible-study/2026-09-09
END:VEVENT
END:VCALENDAR
