BEGIN:VCALENDAR
VERSION:2.0
PRODID:icalendar-ruby
CALSCALE:GREGORIAN
METHOD:PUBLISH
BEGIN:VEVENT
DTSTAMP:20260424T094600Z
UID:8-265773@stjohnschurchpa.org
DTSTART:20260916T220000Z
DTEND:20260916T230000Z
CLASS:PUBLIC
CREATED:20260423T232019
DESCRIPTION:
LAST-MODIFIED:20260423T232019
LOCATION:
SUMMARY:Bible Study
URL;VALUE=URI:https://www.stjohnschurchpa.org/events/bible-study/2026-09-16
END:VEVENT
END:VCALENDAR
