BEGIN:VCALENDAR
VERSION:2.0
PRODID:icalendar-ruby
CALSCALE:GREGORIAN
METHOD:PUBLISH
BEGIN:VEVENT
DTSTAMP:20260424T110847Z
UID:8-265774@stjohnschurchpa.org
DTSTART:20260923T220000Z
DTEND:20260923T230000Z
CLASS:PUBLIC
CREATED:20260423T232019
DESCRIPTION:
LAST-MODIFIED:20260423T232019
LOCATION:
SUMMARY:Bible Study
URL;VALUE=URI:https://www.stjohnschurchpa.org/events/bible-study/2026-09-23
END:VEVENT
END:VCALENDAR
