BEGIN:VCALENDAR
VERSION:2.0
PRODID:icalendar-ruby
CALSCALE:GREGORIAN
METHOD:PUBLISH
BEGIN:VEVENT
DTSTAMP:20260424T142905Z
UID:8-265883@stjohnschurchpa.org
DTSTART:20261007T220000Z
DTEND:20261007T230000Z
CLASS:PUBLIC
CREATED:20260424T084819
DESCRIPTION:
LAST-MODIFIED:20260424T084819
LOCATION:
SUMMARY:Bible Study
URL;VALUE=URI:https://www.stjohnschurchpa.org/events/bible-study/2026-10-07
END:VEVENT
END:VCALENDAR
