BEGIN:VCALENDAR
VERSION:2.0
PRODID:icalendar-ruby
CALSCALE:GREGORIAN
METHOD:PUBLISH
BEGIN:VEVENT
DTSTAMP:20260424T185114Z
UID:8-266100@stjohnschurchpa.org
DTSTART:20261028T220000Z
DTEND:20261028T230000Z
CLASS:PUBLIC
CREATED:20260424T142631
DESCRIPTION:
LAST-MODIFIED:20260424T142631
LOCATION:
SUMMARY:Bible Study
URL;VALUE=URI:https://www.stjohnschurchpa.org/events/bible-study/2026-10-28
END:VEVENT
END:VCALENDAR
