BEGIN:VCALENDAR
VERSION:2.0
PRODID:icalendar-ruby
CALSCALE:GREGORIAN
METHOD:PUBLISH
BEGIN:VEVENT
DTSTAMP:20260424T201220Z
UID:8-266101@stjohnschurchpa.org
DTSTART:20261104T230000Z
DTEND:20261105T000000Z
CLASS:PUBLIC
CREATED:20260424T142631
DESCRIPTION:
LAST-MODIFIED:20260424T142631
LOCATION:
SUMMARY:Bible Study
URL;VALUE=URI:https://www.stjohnschurchpa.org/events/bible-study/2026-11-04
END:VEVENT
END:VCALENDAR
